BEGIN:VCALENDAR
VERSION:2.0
PRODID:-//FIFES - Festival International du Film Écologique et Social - ECPv6.15.20//NONSGML v1.0//EN
CALSCALE:GREGORIAN
METHOD:PUBLISH
X-ORIGINAL-URL:https://fifes.org
X-WR-CALDESC:Évènements pour FIFES - Festival International du Film Écologique et Social
REFRESH-INTERVAL;VALUE=DURATION:PT1H
X-Robots-Tag:noindex
X-PUBLISHED-TTL:PT1H
BEGIN:VTIMEZONE
TZID:Europe/Paris
BEGIN:DAYLIGHT
TZOFFSETFROM:+0100
TZOFFSETTO:+0200
TZNAME:CEST
DTSTART:20250330T010000
END:DAYLIGHT
BEGIN:STANDARD
TZOFFSETFROM:+0200
TZOFFSETTO:+0100
TZNAME:CET
DTSTART:20251026T010000
END:STANDARD
BEGIN:DAYLIGHT
TZOFFSETFROM:+0100
TZOFFSETTO:+0200
TZNAME:CEST
DTSTART:20260329T010000
END:DAYLIGHT
BEGIN:STANDARD
TZOFFSETFROM:+0200
TZOFFSETTO:+0100
TZNAME:CET
DTSTART:20261025T010000
END:STANDARD
BEGIN:DAYLIGHT
TZOFFSETFROM:+0100
TZOFFSETTO:+0200
TZNAME:CEST
DTSTART:20270328T010000
END:DAYLIGHT
BEGIN:STANDARD
TZOFFSETFROM:+0200
TZOFFSETTO:+0100
TZNAME:CET
DTSTART:20271031T010000
END:STANDARD
END:VTIMEZONE
BEGIN:VEVENT
DTSTART;TZID=Europe/Paris:20260530T170000
DTEND;TZID=Europe/Paris:20260530T183000
DTSTAMP:20260419T162619
CREATED:20260414T090150Z
LAST-MODIFIED:20260414T091536Z
UID:10000309-1780160400-1780165800@fifes.org
SUMMARY:Atelier enfants
DESCRIPTION:Les petits artistes du vivant  \nAu sol des Allées de la Liberté\, les enfants pourront librement venir dessiner à la craie. Des modèles de faune et de flore leur seront proposés et ils deviendront les créateurs d’une œuvre collective et éphémère sur la beauté de la biodiversité.\nLibre d’ailleurs aux grands\, de venir se joindre à eux !
URL:https://fifes.org/evenement/atelier-enfants-2/
LOCATION:Les Allées de la Liberté\, Les allées de la liberté\, Cannes\, 06400
CATEGORIES:Ateliers,Ateliers enfants,Festival international du film écologique et social
ATTACH;FMTTYPE=image/png:/wp-content/uploads/2026/04/atelier-enfants.png
ORGANIZER;CN="F.I.F.E.S.":MAILTO:contact@fifes.org
GEO:43.551791;7.015139
X-APPLE-STRUCTURED-LOCATION;VALUE=URI;X-ADDRESS=Les Allées de la Liberté Les allées de la liberté Cannes 06400;X-APPLE-RADIUS=500;X-TITLE=Les allées de la liberté:geo:7.015139,43.551791
END:VEVENT
BEGIN:VEVENT
DTSTART;TZID=Europe/Paris:20260530T180000
DTEND;TZID=Europe/Paris:20260530T184500
DTSTAMP:20260419T162620
CREATED:20260414T091006Z
LAST-MODIFIED:20260414T091006Z
UID:10000311-1780164000-1780166700@fifes.org
SUMMARY:Spectacle de contes avec Catherine Bouin
DESCRIPTION:Mystères de la vie forestière \nLe conte a croisé le chemin de Catherine il y a plus d'une trentaine d'années: “J'ai été touchée par sa capacité à transmettre de l'essentiel\, à dire le mystère\, celui qui se cache au plus profond de nous et que l'humanité entière partage. Le conte permet simplement\, avec des mots de tous les jours\, dans une relation directe et sans artifice\, d’aller droit au cœur\, de réveiller et d'émerveiller. C'est un art à part entière\, vieux comme le monde et toujours d'actualité.” La plupart de ses contes sont des adaptations de répertoire traditionnel\, fruit de collectage ou d'anthologie. Son répertoire est lié à la terre\, elle qui nous nourrit\, nous offre sa beauté et sa générosité. \nCatherine a développé sa propre méthodologie qui lui permet d'être comprise par tous\, quel que soit leur niveau de français\, afin de donner du plaisir avec la parole conteuse et montrer son universalité. Pendant son spectacle\, Catherine nous fera partie de sept contes qui ont tous pour thème la forêt\, vue comme une communauté où l'entraide et la solidarité règnent dans une harmonie parfaite au service de la vie.
URL:https://fifes.org/evenement/spectacle-de-contes/
LOCATION:Espace Miramar\, Rue Pasteur\, Cannes\, Alpes-Maritimes\, 06400\, France
CATEGORIES:Ateliers,Ateliers enfants,Festival international du film écologique et social
ATTACH;FMTTYPE=image/png:/wp-content/uploads/2026/04/atelier-catherine-boin.png
ORGANIZER;CN="F.I.F.E.S.":MAILTO:contact@fifes.org
GEO:43.5489147;7.0290109
X-APPLE-STRUCTURED-LOCATION;VALUE=URI;X-ADDRESS=Espace Miramar Rue Pasteur Cannes Alpes-Maritimes 06400 France;X-APPLE-RADIUS=500;X-TITLE=Rue Pasteur:geo:7.0290109,43.5489147
END:VEVENT
END:VCALENDAR