BEGIN:VCALENDAR
VERSION:2.0
PRODID:-//FIFES - Festival International du Film Écologique et Social - ECPv6.15.20//NONSGML v1.0//EN
CALSCALE:GREGORIAN
METHOD:PUBLISH
X-WR-CALNAME:FIFES - Festival International du Film Écologique et Social
X-ORIGINAL-URL:https://fifes.org
X-WR-CALDESC:Évènements pour FIFES - Festival International du Film Écologique et Social
REFRESH-INTERVAL;VALUE=DURATION:PT1H
X-Robots-Tag:noindex
X-PUBLISHED-TTL:PT1H
BEGIN:VTIMEZONE
TZID:Europe/Paris
BEGIN:DAYLIGHT
TZOFFSETFROM:+0100
TZOFFSETTO:+0200
TZNAME:CEST
DTSTART:20250330T010000
END:DAYLIGHT
BEGIN:STANDARD
TZOFFSETFROM:+0200
TZOFFSETTO:+0100
TZNAME:CET
DTSTART:20251026T010000
END:STANDARD
BEGIN:DAYLIGHT
TZOFFSETFROM:+0100
TZOFFSETTO:+0200
TZNAME:CEST
DTSTART:20260329T010000
END:DAYLIGHT
BEGIN:STANDARD
TZOFFSETFROM:+0200
TZOFFSETTO:+0100
TZNAME:CET
DTSTART:20261025T010000
END:STANDARD
BEGIN:DAYLIGHT
TZOFFSETFROM:+0100
TZOFFSETTO:+0200
TZNAME:CEST
DTSTART:20270328T010000
END:DAYLIGHT
BEGIN:STANDARD
TZOFFSETFROM:+0200
TZOFFSETTO:+0100
TZNAME:CET
DTSTART:20271031T010000
END:STANDARD
END:VTIMEZONE
BEGIN:VEVENT
DTSTART;TZID=Europe/Paris:20260527T180000
DTEND;TZID=Europe/Paris:20260527T184500
DTSTAMP:20260422T234926
CREATED:20260422T135121Z
LAST-MODIFIED:20260422T135121Z
UID:14673-1779904800-1779907500@fifes.org
SUMMARY:Projet Jeunesse
DESCRIPTION:À voix haute : Quand la jeunesse prend la parole sur la biodiversité\nPerformance des étudiants du Lycée Bristol\n \nAccompagnés par leur professeur Romain Gimenes\, les élèves de seconde du Lycée Bristol proposent une performance scénique unique où la mise en voix de textes engagés\nsera accompagnée en arrière-plan par des images et des sons. Tout ce qui sera dit et montré sur scène aura été créé de manière originale par les élèves eux-mêmes. \nÀ la manière du travail littéraire de Sylvain Tesson\, les élèves proposeront une lecture des différents textes qu’ils auront écrits en croisant les genres : récit\, discours\, lettre\, journal intime\, poème. Ces textes seront articulés autour de la thématique écologique et sociale de la biodiversité. \nChaque prise de parole\, en groupe ou individuelle\, sera accompagnée d’une image ou d’un son capté sur le territoire cannois par les élèves. Ces éléments visuels et sonores\npourront illustrer les textes sur la biodiversité\, mais aussi entrer en dialogue avec l’écriture\, tout en créant une transition entre les différentes prises de parole.
URL:https://fifes.org/evenement/projet-jeunesse/
LOCATION:Espace Miramar\, Rue Pasteur\, Cannes\, Alpes-Maritimes\, 06400\, France
CATEGORIES:Festival international du film écologique et social
ATTACH;FMTTYPE=image/jpeg:/wp-content/uploads/2026/04/projet-jeunesse-fifes-2026.jpg
ORGANIZER;CN="F.I.F.E.S.":MAILTO:contact@fifes.org
GEO:43.5489147;7.0290109
X-APPLE-STRUCTURED-LOCATION;VALUE=URI;X-ADDRESS=Espace Miramar Rue Pasteur Cannes Alpes-Maritimes 06400 France;X-APPLE-RADIUS=500;X-TITLE=Rue Pasteur:geo:7.0290109,43.5489147
END:VEVENT
END:VCALENDAR