BEGIN:VCALENDAR
VERSION:2.0
PRODID:-//FIFES - Festival International du Film Écologique et Social - ECPv6.15.20//NONSGML v1.0//EN
CALSCALE:GREGORIAN
METHOD:PUBLISH
X-WR-CALNAME:FIFES - Festival International du Film Écologique et Social
X-ORIGINAL-URL:https://fifes.org
X-WR-CALDESC:Évènements pour FIFES - Festival International du Film Écologique et Social
REFRESH-INTERVAL;VALUE=DURATION:PT1H
X-Robots-Tag:noindex
X-PUBLISHED-TTL:PT1H
BEGIN:VTIMEZONE
TZID:Europe/Paris
BEGIN:DAYLIGHT
TZOFFSETFROM:+0100
TZOFFSETTO:+0200
TZNAME:CEST
DTSTART:20240331T010000
END:DAYLIGHT
BEGIN:STANDARD
TZOFFSETFROM:+0200
TZOFFSETTO:+0100
TZNAME:CET
DTSTART:20241027T010000
END:STANDARD
BEGIN:DAYLIGHT
TZOFFSETFROM:+0100
TZOFFSETTO:+0200
TZNAME:CEST
DTSTART:20250330T010000
END:DAYLIGHT
BEGIN:STANDARD
TZOFFSETFROM:+0200
TZOFFSETTO:+0100
TZNAME:CET
DTSTART:20251026T010000
END:STANDARD
BEGIN:DAYLIGHT
TZOFFSETFROM:+0100
TZOFFSETTO:+0200
TZNAME:CEST
DTSTART:20260329T010000
END:DAYLIGHT
BEGIN:STANDARD
TZOFFSETFROM:+0200
TZOFFSETTO:+0100
TZNAME:CET
DTSTART:20261025T010000
END:STANDARD
END:VTIMEZONE
BEGIN:VEVENT
DTSTART;TZID=Europe/Paris:20250529T200000
DTEND;TZID=Europe/Paris:20250529T220000
DTSTAMP:20260419T164031
CREATED:20250408T142426Z
LAST-MODIFIED:20250408T142426Z
UID:9478-1748548800-1748556000@fifes.org
SUMMARY:Plastic Fantastic
DESCRIPTION:Isa Willinger\, Allemagne\n103 min. – 2023 – Documentaire – Rise And Shine World Sales\n \n  \nLes plastiques sont partout. Ils ne se contentent pas d’envahir nos rivières et nos océans\, ils imprègnent aussi l’air\, le sol et même nos corps. Alors que la crise s’aggrave et que le recyclage reste largement inefficace\, l’industrie du plastique continue d’augmenter sa production. L’industrie souhaite-t-elle vraiment continuer comme elle l’a toujours fait ?\nPLASTIC FANTASTIC suit plusieurs protagonistes : d’un côté\, des représentants de l’industrie du plastique\, et de l’autre\, des scientifiques et des activistes\, afin de découvrir où nous mène la crise du plastique. \n 
URL:https://fifes.org/evenement/plastic-fantastic/
LOCATION:Espace Miramar\, Rue Pasteur\, Cannes\, Alpes-Maritimes\, 06400\, France
CATEGORIES:Compétition internationale,Films
ATTACH;FMTTYPE=image/jpeg:/wp-content/uploads/2025/01/Plastic-Fantastic-1.jpg
GEO:43.5489147;7.0290109
X-APPLE-STRUCTURED-LOCATION;VALUE=URI;X-ADDRESS=Espace Miramar Rue Pasteur Cannes Alpes-Maritimes 06400 France;X-APPLE-RADIUS=500;X-TITLE=Rue Pasteur:geo:7.0290109,43.5489147
END:VEVENT
END:VCALENDAR