BEGIN:VCALENDAR
VERSION:2.0
PRODID:-//FIFES - Festival International du Film Écologique et Social - ECPv6.15.20//NONSGML v1.0//EN
CALSCALE:GREGORIAN
METHOD:PUBLISH
X-WR-CALNAME:FIFES - Festival International du Film Écologique et Social
X-ORIGINAL-URL:https://fifes.org
X-WR-CALDESC:Évènements pour FIFES - Festival International du Film Écologique et Social
REFRESH-INTERVAL;VALUE=DURATION:PT1H
X-Robots-Tag:noindex
X-PUBLISHED-TTL:PT1H
BEGIN:VTIMEZONE
TZID:Europe/Paris
BEGIN:DAYLIGHT
TZOFFSETFROM:+0100
TZOFFSETTO:+0200
TZNAME:CEST
DTSTART:20250330T010000
END:DAYLIGHT
BEGIN:STANDARD
TZOFFSETFROM:+0200
TZOFFSETTO:+0100
TZNAME:CET
DTSTART:20251026T010000
END:STANDARD
BEGIN:DAYLIGHT
TZOFFSETFROM:+0100
TZOFFSETTO:+0200
TZNAME:CEST
DTSTART:20260329T010000
END:DAYLIGHT
BEGIN:STANDARD
TZOFFSETFROM:+0200
TZOFFSETTO:+0100
TZNAME:CET
DTSTART:20261025T010000
END:STANDARD
BEGIN:DAYLIGHT
TZOFFSETFROM:+0100
TZOFFSETTO:+0200
TZNAME:CEST
DTSTART:20270328T010000
END:DAYLIGHT
BEGIN:STANDARD
TZOFFSETFROM:+0200
TZOFFSETTO:+0100
TZNAME:CET
DTSTART:20271031T010000
END:STANDARD
END:VTIMEZONE
BEGIN:VEVENT
DTSTART;TZID=Europe/Paris:20260528T203000
DTEND;TZID=Europe/Paris:20260528T213000
DTSTAMP:20260423T002507
CREATED:20260422T134028Z
LAST-MODIFIED:20260422T134324Z
UID:14667-1780000200-1780003800@fifes.org
SUMMARY:Faites entrer la nature
DESCRIPTION:Léa Ducré\nDocumentaire – 53 min – France – 2025\nVO en français \nMarine Calmet\, juriste pionnière des droits de la nature\, prépare un recours inédit contre l’État français suite à l’abattage de plus de 800 requins à La Réunion depuis 2014. Aux côtés de l’océanographe François Sarano et du militant Didier Dérand\, elle organise un procès simulé où des étudiants en droit développent les arguments du futur recours.\nL’objectif : faire reconnaître une personnalité juridique à l’océan et pousser le juge à condamner cet abattage. Tout converge lors de la Conférence des Nations Unies sur\nl’Océan en France\, où Marine tente de rallier les ONG mondiales pour faire des océans les nouveaux sujets de droit du XXIe siècle.
URL:https://fifes.org/evenement/faites-entrer-la-nature/
LOCATION:Espace Miramar\, Rue Pasteur\, Cannes\, Alpes-Maritimes\, 06400\, France
CATEGORIES:Festival international du film écologique et social,Films,Films hors compétitions
ATTACH;FMTTYPE=image/jpeg:/wp-content/uploads/2026/03/faites-entrer-la-nature.jpg
ORGANIZER;CN="F.I.F.E.S.":MAILTO:contact@fifes.org
GEO:43.5489147;7.0290109
X-APPLE-STRUCTURED-LOCATION;VALUE=URI;X-ADDRESS=Espace Miramar Rue Pasteur Cannes Alpes-Maritimes 06400 France;X-APPLE-RADIUS=500;X-TITLE=Rue Pasteur:geo:7.0290109,43.5489147
END:VEVENT
END:VCALENDAR