BEGIN:VCALENDAR
VERSION:2.0
PRODID:-//Fifes - Festival Internation du Film Ecologique et Social - ECPv6.15.20//NONSGML v1.0//EN
CALSCALE:GREGORIAN
METHOD:PUBLISH
X-ORIGINAL-URL:https://fifes.org/en/
X-WR-CALDESC:Events for Fifes - Festival Internation du Film Ecologique et Social
REFRESH-INTERVAL;VALUE=DURATION:PT1H
X-Robots-Tag:noindex
X-PUBLISHED-TTL:PT1H
BEGIN:VTIMEZONE
TZID:Europe/Paris
BEGIN:DAYLIGHT
TZOFFSETFROM:+0100
TZOFFSETTO:+0200
TZNAME:CEST
DTSTART:20250330T010000
END:DAYLIGHT
BEGIN:STANDARD
TZOFFSETFROM:+0200
TZOFFSETTO:+0100
TZNAME:CET
DTSTART:20251026T010000
END:STANDARD
BEGIN:DAYLIGHT
TZOFFSETFROM:+0100
TZOFFSETTO:+0200
TZNAME:CEST
DTSTART:20260329T010000
END:DAYLIGHT
BEGIN:STANDARD
TZOFFSETFROM:+0200
TZOFFSETTO:+0100
TZNAME:CET
DTSTART:20261025T010000
END:STANDARD
BEGIN:DAYLIGHT
TZOFFSETFROM:+0100
TZOFFSETTO:+0200
TZNAME:CEST
DTSTART:20270328T010000
END:DAYLIGHT
BEGIN:STANDARD
TZOFFSETFROM:+0200
TZOFFSETTO:+0100
TZNAME:CET
DTSTART:20271031T010000
END:STANDARD
END:VTIMEZONE
BEGIN:VEVENT
DTSTART;TZID=Europe/Paris:20260528T103000
DTEND;TZID=Europe/Paris:20260528T120000
DTSTAMP:20260424T082152
CREATED:20260409T133207Z
LAST-MODIFIED:20260412T075423Z
UID:10000295-1779964200-1779969600@fifes.org
SUMMARY:Nimuendajú
DESCRIPTION:Tania Anaya\nAnimation - 84 min - Brazil - 2025\nVO in Portuguese\, subtitled in French \nThe film tells the story of Curt Unckel\, a social scientist who lived with indigenous peoples for 40 years. Curt was baptized in 1906 by the Guaranis as Nimuendajú\, and has dedicated his life to studying and understanding different cultures. He witnessed the persecution and expulsion of indigenous peoples from their lands.
URL:https://fifes.org/en/evenement/nimuendaju-2/
LOCATION:Espace Miramar\, Rue Pasteur\, Cannes\, Alpes-Maritimes\, 06400\, France
CATEGORIES:Film broadcasting,International competition
ATTACH;FMTTYPE=image/jpeg:/wp-content/uploads/2026/02/nimuendaju.jpg
ORGANIZER;CN="F.I.F.E.S.":MAILTO:contact@fifes.org
GEO:43.5489147;7.0290109
X-APPLE-STRUCTURED-LOCATION;VALUE=URI;X-ADDRESS=Espace Miramar Rue Pasteur Cannes Alpes-Maritimes 06400 France;X-APPLE-RADIUS=500;X-TITLE=Rue Pasteur:geo:7.0290109,43.5489147
END:VEVENT
BEGIN:VEVENT
DTSTART;TZID=Europe/Paris:20260528T140000
DTEND;TZID=Europe/Paris:20260528T153000
DTSTAMP:20260424T082152
CREATED:20260312T160807Z
LAST-MODIFIED:20260322T163002Z
UID:10000272-1779976800-1779982200@fifes.org
SUMMARY:A song for my land
DESCRIPTION:Mauricio Albornoz Iniesta\nDocumentary - 96 min - Argentina - 2025\nVO in Spanish\, subtitled in French \nRamiro Lezcano\, a music teacher in rural Argentina\, is shocked to discover that planes are spraying pesticides near schools\, endangering the health of his pupils. In response\, he and the children compose songs to denounce the problem\, but their initiative meets with stiff resistance from the local community. To make their protest heard\, Ramiro decides to organize an open-air concert: an "environmental Woodstock".   
URL:https://fifes.org/en/evenement/a-song-for-my-land/
LOCATION:Espace Miramar\, Rue Pasteur\, Cannes\, Alpes-Maritimes\, 06400\, France
CATEGORIES:Film broadcasting,International competition,International ecological and social film festival
ATTACH;FMTTYPE=image/jpeg:/wp-content/uploads/2026/02/une-chanson-pour-ma-terre.jpg
ORGANIZER;CN="F.I.F.E.S.":MAILTO:contact@fifes.org
GEO:43.5489147;7.0290109
X-APPLE-STRUCTURED-LOCATION;VALUE=URI;X-ADDRESS=Espace Miramar Rue Pasteur Cannes Alpes-Maritimes 06400 France;X-APPLE-RADIUS=500;X-TITLE=Rue Pasteur:geo:7.0290109,43.5489147
END:VEVENT
BEGIN:VEVENT
DTSTART;TZID=Europe/Paris:20260528T160000
DTEND;TZID=Europe/Paris:20260528T173000
DTSTAMP:20260424T082152
CREATED:20260312T132014Z
LAST-MODIFIED:20260411T062129Z
UID:10000260-1779984000-1779989400@fifes.org
SUMMARY:Red Forest
DESCRIPTION:Laurie Lassalle\nDocumentary - 84 min - France - 2025\nFrench version \nAs the Notre Dame des Landes Z.A.D. undergoes upheaval since the abandonment of the airport project\, the forest is transformed into a territory of struggle. The Z.A.D. has become a land of metamorphosis\, where the ideals of its inhabitants come face to face with state repression.
URL:https://fifes.org/en/evenement/red-forest/
LOCATION:Espace Miramar\, Rue Pasteur\, Cannes\, Alpes-Maritimes\, 06400\, France
CATEGORIES:Film broadcasting,International competition,International ecological and social film festival
ATTACH;FMTTYPE=image/jpeg:/wp-content/uploads/2026/02/Foret-rouge-vignette.jpg
ORGANIZER;CN="F.I.F.E.S.":MAILTO:contact@fifes.org
GEO:43.5489147;7.0290109
X-APPLE-STRUCTURED-LOCATION;VALUE=URI;X-ADDRESS=Espace Miramar Rue Pasteur Cannes Alpes-Maritimes 06400 France;X-APPLE-RADIUS=500;X-TITLE=Rue Pasteur:geo:7.0290109,43.5489147
END:VEVENT
BEGIN:VEVENT
DTSTART;TZID=Europe/Paris:20260528T180000
DTEND;TZID=Europe/Paris:20260528T190000
DTSTAMP:20260424T082152
CREATED:20260414T075916Z
LAST-MODIFIED:20260414T082731Z
UID:10000300-1779991200-1779994800@fifes.org
SUMMARY:Film and photography workshop with Yanqiu Fei
DESCRIPTION:Bringing the story to life on screen:\nThe role of the director of photography \nYanqiu Fei is a Chinese cinematographer\, director and screenwriter currently based in France. Yanqiu Fei's cinematography credits include the feature documentary Last Year of Darkness\, winner of the NEXT:WAVE prize at CPH:DOX and the Cannes Doc Award at Visions du Réel.  \nIn this workshop\, participants will discover how a cinematographer constructs the vision of a film\, from preparation to artistic collaboration\, in both fiction and documentary. Drawing on film extracts\, the workshop will reflect on the ethics of the gaze and cinematographic practice. Yanqiu will also share his professional experience\, followed by a question-and-answer session.   \nObjective: understand the role of the cinematographer and the development of a film from script to screen\nLanguage: English\, translated into French\nAudience: all\, including young filmmakers
URL:https://fifes.org/en/evenement/film-and-photography-workshop-with-yanqiu-fei-2/
LOCATION:Espace Miramar\, Rue Pasteur\, Cannes\, Alpes-Maritimes\, 06400\, France
CATEGORIES:International ecological and social film festival,Workshops
ATTACH;FMTTYPE=image/png:/wp-content/uploads/2026/03/atelier-Yanqiu-Fei.png
ORGANIZER;CN="F.I.F.E.S.":MAILTO:contact@fifes.org
GEO:43.5489147;7.0290109
X-APPLE-STRUCTURED-LOCATION;VALUE=URI;X-ADDRESS=Espace Miramar Rue Pasteur Cannes Alpes-Maritimes 06400 France;X-APPLE-RADIUS=500;X-TITLE=Rue Pasteur:geo:7.0290109,43.5489147
END:VEVENT
BEGIN:VEVENT
DTSTART;TZID=Europe/Paris:20260528T183000
DTEND;TZID=Europe/Paris:20260528T200000
DTSTAMP:20260424T082152
CREATED:20260312T142841Z
LAST-MODIFIED:20260329T134353Z
UID:10000266-1779993000-1779998400@fifes.org
SUMMARY:Ojos de Agua\, Freeing Chile's waters
DESCRIPTION:Marion Esnault\, Marcelo Lara\nDocumentary - 65 min - Chile\, France - 2025\nVO in Spanish\, subtitled in French \nIn Chile\, drought and water shortages have been hitting hard for the past 15 years. The cause is climate change\, but above all the privatization of water sources instituted by Pinochet's constitution and its neoliberal model. As political upheavals shake the Andean country since the social revolt of 2019\, Alejo and Ivanna are fighting for access to drinking water and an end to the monopolization of water by intensive agriculture and copper mining.
URL:https://fifes.org/en/evenement/ojos-de-agua-freeing-chiles-waters/
LOCATION:Espace Miramar\, Rue Pasteur\, Cannes\, Alpes-Maritimes\, 06400\, France
CATEGORIES:Film broadcasting,International competition,International ecological and social film festival
ATTACH;FMTTYPE=image/jpeg:/wp-content/uploads/2026/02/Ojos-de-Agua.jpg
ORGANIZER;CN="F.I.F.E.S.":MAILTO:contact@fifes.org
GEO:43.5489147;7.0290109
X-APPLE-STRUCTURED-LOCATION;VALUE=URI;X-ADDRESS=Espace Miramar Rue Pasteur Cannes Alpes-Maritimes 06400 France;X-APPLE-RADIUS=500;X-TITLE=Rue Pasteur:geo:7.0290109,43.5489147
END:VEVENT
END:VCALENDAR