BEGIN:VCALENDAR
VERSION:2.0
PRODID:-//Fifes - Festival Internation du Film Ecologique et Social - ECPv6.15.20//NONSGML v1.0//EN
CALSCALE:GREGORIAN
METHOD:PUBLISH
X-ORIGINAL-URL:https://fifes.org/en/
X-WR-CALDESC:Events for Fifes - Festival Internation du Film Ecologique et Social
REFRESH-INTERVAL;VALUE=DURATION:PT1H
X-Robots-Tag:noindex
X-PUBLISHED-TTL:PT1H
BEGIN:VTIMEZONE
TZID:Europe/Paris
BEGIN:DAYLIGHT
TZOFFSETFROM:+0100
TZOFFSETTO:+0200
TZNAME:CEST
DTSTART:20240331T010000
END:DAYLIGHT
BEGIN:STANDARD
TZOFFSETFROM:+0200
TZOFFSETTO:+0100
TZNAME:CET
DTSTART:20241027T010000
END:STANDARD
BEGIN:DAYLIGHT
TZOFFSETFROM:+0100
TZOFFSETTO:+0200
TZNAME:CEST
DTSTART:20250330T010000
END:DAYLIGHT
BEGIN:STANDARD
TZOFFSETFROM:+0200
TZOFFSETTO:+0100
TZNAME:CET
DTSTART:20251026T010000
END:STANDARD
BEGIN:DAYLIGHT
TZOFFSETFROM:+0100
TZOFFSETTO:+0200
TZNAME:CEST
DTSTART:20260329T010000
END:DAYLIGHT
BEGIN:STANDARD
TZOFFSETFROM:+0200
TZOFFSETTO:+0100
TZNAME:CET
DTSTART:20261025T010000
END:STANDARD
END:VTIMEZONE
BEGIN:VEVENT
DTSTART;TZID=Europe/Paris:20250527T163000
DTEND;TZID=Europe/Paris:20250527T173000
DTSTAMP:20260419T213830
CREATED:20250505T150838Z
LAST-MODIFIED:20250514T161223Z
UID:10000228-1748363400-1748367000@fifes.org
SUMMARY:Opening of Celyne Roy's exhibition
DESCRIPTION:Celyne Roy is an underwater photographer based in the PACA region of France\, who has been passionate about the sea since childhood.\nAn amateur photographer since the age of 13\, she specialized in aquatic photography after discovering freediving in Indonesia in 2019. This practice became the link between her passions for the sea and photography\, with water becoming a terrain for infinite creations.\nCelyne collaborates with dancers\, athletes\, private individuals and brands to create unique\, underwater projects.\nAt the same time\, her work on marine life aims to raise awareness of the beauty and fragility of underwater ecosystems. Through her images\, she hopes to encourage discovery\, appreciation and protection of the ocean. For FIFES\, Celyne will be exhibiting two series of photographs\, Freedancing and Vie marine\, in the Espace Miramar showroom. Audio-guided tours of the aquatic world will also be available.     \nCelyne's website: www.celyneroy.com\nInstagram: @celyneroy \nExhibition from Tuesday\, May 27\, 4:30 p.m. to Friday\, May 30\, 10 p.m.
URL:https://fifes.org/en/evenement/opening-of-celyne-roys-exhibition/
LOCATION:Espace Miramar\, Rue Pasteur\, Cannes\, Alpes-Maritimes\, 06400\, France
CATEGORIES:Arts,Visual arts
ATTACH;FMTTYPE=image/jpeg:/wp-content/uploads/2025/05/Exposition-de-Celyne-Roy-FIFES2025-.jpg
ORGANIZER;CN="F.I.F.E.S.":MAILTO:contact@fifes.org
GEO:43.5489147;7.0290109
X-APPLE-STRUCTURED-LOCATION;VALUE=URI;X-ADDRESS=Espace Miramar Rue Pasteur Cannes Alpes-Maritimes 06400 France;X-APPLE-RADIUS=500;X-TITLE=Rue Pasteur:geo:7.0290109,43.5489147
END:VEVENT
END:VCALENDAR