BEGIN:VCALENDAR
VERSION:2.0
PRODID:-//Fifes - Festival Internation du Film Ecologique et Social - ECPv6.15.20//NONSGML v1.0//EN
CALSCALE:GREGORIAN
METHOD:PUBLISH
X-ORIGINAL-URL:https://fifes.org/en/
X-WR-CALDESC:Events for Fifes - Festival Internation du Film Ecologique et Social
REFRESH-INTERVAL;VALUE=DURATION:PT1H
X-Robots-Tag:noindex
X-PUBLISHED-TTL:PT1H
BEGIN:VTIMEZONE
TZID:Europe/Paris
BEGIN:DAYLIGHT
TZOFFSETFROM:+0100
TZOFFSETTO:+0200
TZNAME:CEST
DTSTART:20250330T010000
END:DAYLIGHT
BEGIN:STANDARD
TZOFFSETFROM:+0200
TZOFFSETTO:+0100
TZNAME:CET
DTSTART:20251026T010000
END:STANDARD
BEGIN:DAYLIGHT
TZOFFSETFROM:+0100
TZOFFSETTO:+0200
TZNAME:CEST
DTSTART:20260329T010000
END:DAYLIGHT
BEGIN:STANDARD
TZOFFSETFROM:+0200
TZOFFSETTO:+0100
TZNAME:CET
DTSTART:20261025T010000
END:STANDARD
BEGIN:DAYLIGHT
TZOFFSETFROM:+0100
TZOFFSETTO:+0200
TZNAME:CEST
DTSTART:20270328T010000
END:DAYLIGHT
BEGIN:STANDARD
TZOFFSETFROM:+0200
TZOFFSETTO:+0100
TZNAME:CET
DTSTART:20271031T010000
END:STANDARD
END:VTIMEZONE
BEGIN:VEVENT
DTSTART;TZID=Europe/Paris:20260211T190000
DTEND;TZID=Europe/Paris:20260211T213000
DTSTAMP:20260423T081949
CREATED:20251127T143020Z
LAST-MODIFIED:20260126T100714Z
UID:10000255-1770836400-1770845400@fifes.org
SUMMARY:Children and trees + debate
DESCRIPTION:Natalie Pfister\, Switzerland\n89 min. - 2024 - Documentary - Solothurner Filmtage  \nThe film plunges us into a school in the middle of the forest\, where\, over the course of a year\, we observe the children who play and learn there. Thirty children\, from kindergarten to CE1\, spend every day here\, whatever the weather - sun\, rain or snow. They explore the forest on their own\, discover nature's cycles and seek their place in the community. In this environment\, they develop their sense of responsibility\, courage\, imagination and creativity\, while interacting spontaneously and empathetically with their peers and other beings in the world.    \nPrice: €5 - followed by discussion
URL:https://fifes.org/en/evenement/children-and-trees-debate/
LOCATION:Cinéma Le Bego Tende\, Tende\, 06430\, France
CATEGORIES:External events,Film broadcasting
ATTACH;FMTTYPE=image/jpeg:/wp-content/uploads/2025/01/Des-enfants-et-des-arbres-1.jpg
END:VEVENT
BEGIN:VEVENT
DTSTART;TZID=Europe/Paris:20260311T190000
DTEND;TZID=Europe/Paris:20260311T213000
DTSTAMP:20260423T081950
CREATED:20251127T143348Z
LAST-MODIFIED:20260126T100715Z
UID:10000256-1773255600-1773264600@fifes.org
SUMMARY:I am the River the River is me + debate
DESCRIPTION:Petr Lom\, New Zealand\n88 min. - 2024 - Documentary - Ten Thousand Images  \nFor the Māori\, the Whanganui is a living being - their ancestor. This belief was institutionalized by New Zealand law in 2017. Granting the river the status of a legal person is both a means of environmental protection and a legal validation of the Māori worldview.\nThis film is an invitation to experiment with these values: to see our relationship with the world around us - and above all with the natural world - as an intergenerational responsibility of care and custody\, rather than simply one of ownership\, use or extraction.\nProduced over a period of three years\, in close collaboration with the Māori of Whanganui\, this film is a positive and urgent call to action for the rights of nature. \nPrice: €5 - followed by discussion
URL:https://fifes.org/en/evenement/i-am-the-river-the-river-is-me-debate/
LOCATION:Cinéma Le Bego Tende\, Tende\, 06430\, France
CATEGORIES:External events,Film broadcasting
ATTACH;FMTTYPE=image/jpeg:/wp-content/uploads/2025/01/Je-suis-la-riviere-la-riviere-est-moi-1.jpg
END:VEVENT
BEGIN:VEVENT
DTSTART;TZID=Europe/Paris:20260408T190000
DTEND;TZID=Europe/Paris:20260408T213000
DTSTAMP:20260423T081950
CREATED:20251127T143621Z
LAST-MODIFIED:20260126T100715Z
UID:10000257-1775674800-1775683800@fifes.org
SUMMARY:Mariposas Negras + debate
DESCRIPTION:David Baute\, Spanish\n83 min. - 2023 - Animation  \nTanit\, Valeria and Shaila are three women from very different parts of the world\, all facing the same problem: climate change. They will lose everything due to the effects of global warming\, and will be forced to emigrate in order to survive.  \nPrice: €5 - followed by discussion
URL:https://fifes.org/en/evenement/mariposas-negras-debate/
LOCATION:Cinéma Le Bego Tende\, Tende\, 06430\, France
CATEGORIES:External events,Film broadcasting
ATTACH;FMTTYPE=image/jpeg:/wp-content/uploads/2025/01/Les-papillons-noirs.jpg
END:VEVENT
BEGIN:VEVENT
DTSTART;TZID=Europe/Paris:20260513T190000
DTEND;TZID=Europe/Paris:20260513T213000
DTSTAMP:20260423T081950
CREATED:20251127T144434Z
LAST-MODIFIED:20260421T155623Z
UID:10000258-1778698800-1778707800@fifes.org
SUMMARY:A call from the wild + debate
DESCRIPTION:Asgeir Helgestad\, Norway\n81 min. - 2024 - Documentary - Artic light - Albatross World Sales  \nDirector Asgeir Helgestad documents the state of nature in his native Norway\, which he has been photographing for as long as he can remember. From the bees on his farm to the wild reindeer in the high mountains\, and the puffins by the ocean\, he reveals the beauty of an endangered natural world and highlights the human actions responsible for its decline. This film is a personal story about our connection with the non-human world\, the relationship between the small and the large\, and a reminder of nature's strength and vulnerability.   \nPrice: €5 - followed by discussion
URL:https://fifes.org/en/evenement/a-call-from-the-wild-debate/
LOCATION:Cinéma Le Bego Tende\, Tende\, 06430\, France
CATEGORIES:External events,Film broadcasting
ATTACH;FMTTYPE=image/jpeg:/wp-content/uploads/2025/04/A-Call-from-the-Wild-Poster-scaled.jpg
END:VEVENT
END:VCALENDAR